BEGIN:VCALENDAR
VERSION:2.0
PRODID:-//hacksw/handcal//NONSGML v1.0//EN
BEGIN:VEVENT
DTSTAMP:20200812T113000Z
DTSTART:20200812T113000Z
DTEND:20200812T113000Z
LOCATION:Rentrisch, Musterstraße , Deutschland
SUMMARY:Test-Termine
END:VEVENT
END:VCALENDAR
